BEGIN:VCALENDAR
VERSION:2.0
PRODID:icalendar-ruby
CALSCALE:GREGORIAN
METHOD:PUBLISH
BEGIN:VEVENT
DTSTAMP:20260424T140447Z
UID:105-144339@standrewofcl.org
DTSTART:20260516T210000Z
DTEND:20260516T220000Z
CLASS:PUBLIC
CREATED:20260423T165447
DESCRIPTION:Join us \nUnder a Veil of Stars \nSaturday\, May 16\, 2026 \
 n4 pm \nListen to beautiful music and then stay for light refreshments. 
  We will be blessed to hear the following wonderful musicians share their 
 talents.\nJimmy Cheung (Piano) \nYung-Hsuan Lo (Violín) \nKelvin Diaz
  Inoa (Cello) \n 
LAST-MODIFIED:20260423T165447
LOCATION:St. Andrew Lutheran Church
SUMMARY:Celebration of Music
URL;VALUE=URI:https://standrewofcl.org/events/celebration-of-music--105/202
 6-05-16
ATTACH;FILENAME=Screen-Shot-2026-04-23-at-4.39.31-PM.png;FMTTYPE=image/png:
 https://dq5pwpg1q8ru0.cloudfront.net/2026/04/23/21/52/59/0fd54cc5-ea0f-45b
 6-968b-4996a526d50e/Screen-Shot-2026-04-23-at-4.39.31-PM.png
END:VEVENT
END:VCALENDAR
